BEGIN:VCALENDAR
VERSION:2.0
PRODID:-//Golfový rezort Black Stork - ECPv6.15.11//NONSGML v1.0//EN
CALSCALE:GREGORIAN
METHOD:PUBLISH
X-WR-CALNAME:Golfový rezort Black Stork
X-ORIGINAL-URL:https://golftatry.sk
X-WR-CALDESC:Udalosti pre Golfový rezort Black Stork
REFRESH-INTERVAL;VALUE=DURATION:PT1H
X-Robots-Tag:noindex
X-PUBLISHED-TTL:PT1H
BEGIN:VTIMEZONE
TZID:Europe/Bratislava
BEGIN:DAYLIGHT
TZOFFSETFROM:+0100
TZOFFSETTO:+0200
TZNAME:CEST
DTSTART:20240331T010000
END:DAYLIGHT
BEGIN:STANDARD
TZOFFSETFROM:+0200
TZOFFSETTO:+0100
TZNAME:CET
DTSTART:20241027T010000
END:STANDARD
BEGIN:DAYLIGHT
TZOFFSETFROM:+0100
TZOFFSETTO:+0200
TZNAME:CEST
DTSTART:20250330T010000
END:DAYLIGHT
BEGIN:STANDARD
TZOFFSETFROM:+0200
TZOFFSETTO:+0100
TZNAME:CET
DTSTART:20251026T010000
END:STANDARD
BEGIN:DAYLIGHT
TZOFFSETFROM:+0100
TZOFFSETTO:+0200
TZNAME:CEST
DTSTART:20260329T010000
END:DAYLIGHT
BEGIN:STANDARD
TZOFFSETFROM:+0200
TZOFFSETTO:+0100
TZNAME:CET
DTSTART:20261025T010000
END:STANDARD
END:VTIMEZONE
BEGIN:VEVENT
DTSTART;TZID=Europe/Bratislava:20251003T130000
DTEND;TZID=Europe/Bratislava:20251003T170000
DTSTAMP:20260421T132634
CREATED:20251002T115958Z
LAST-MODIFIED:20251002T115958Z
UID:2990-1759496400-1759510800@golftatry.sk
SUMMARY:Sunny Friday with Lunch
DESCRIPTION:
URL:https://golftatry.sk/event/sunny-friday-with-lunch/
END:VEVENT
BEGIN:VEVENT
DTSTART;TZID=Europe/Bratislava:20251005T093000
DTEND;TZID=Europe/Bratislava:20251005T170000
DTSTAMP:20260421T132634
CREATED:20251002T120128Z
LAST-MODIFIED:20251002T120128Z
UID:2994-1759656600-1759683600@golftatry.sk
SUMMARY:BLACK STORK CHALLENGE TOUR XII.
DESCRIPTION:
URL:https://golftatry.sk/event/black-stork-challenge-tour-xii/
END:VEVENT
BEGIN:VEVENT
DTSTART;TZID=Europe/Bratislava:20251007T140000
DTEND;TZID=Europe/Bratislava:20251007T170000
DTSTAMP:20260421T132634
CREATED:20251002T120226Z
LAST-MODIFIED:20251002T120226Z
UID:2998-1759845600-1759856400@golftatry.sk
SUMMARY:Lunys golf cup na 9 jamiek - C/Vardon
DESCRIPTION:
URL:https://golftatry.sk/event/lunys-golf-cup-na-9-jamiek-c-vardon/
END:VEVENT
BEGIN:VEVENT
DTSTART;TZID=Europe/Bratislava:20251010T130000
DTEND;TZID=Europe/Bratislava:20251010T170000
DTSTAMP:20260421T132634
CREATED:20251002T120325Z
LAST-MODIFIED:20251002T120325Z
UID:3002-1760101200-1760115600@golftatry.sk
SUMMARY:Sunny Friday with Lunch
DESCRIPTION:
URL:https://golftatry.sk/event/sunny-friday-with-lunch-2/
END:VEVENT
BEGIN:VEVENT
DTSTART;TZID=Europe/Bratislava:20251011T103000
DTEND;TZID=Europe/Bratislava:20251011T170000
DTSTAMP:20260421T132634
CREATED:20251002T120417Z
LAST-MODIFIED:20251002T120417Z
UID:3006-1760178600-1760202000@golftatry.sk
SUMMARY:O POHÁR PREZIDENTA 2025
DESCRIPTION:
URL:https://golftatry.sk/event/o-pohar-prezidenta-2025/
END:VEVENT
BEGIN:VEVENT
DTSTART;TZID=Europe/Bratislava:20251014T150000
DTEND;TZID=Europe/Bratislava:20251014T170000
DTSTAMP:20260421T132634
CREATED:20251002T120500Z
LAST-MODIFIED:20251002T120500Z
UID:3010-1760454000-1760461200@golftatry.sk
SUMMARY:Lunys golf cup na 9 jamiek - A/Taylor
DESCRIPTION:
URL:https://golftatry.sk/event/lunys-golf-cup-na-9-jamiek-a-taylor/
END:VEVENT
BEGIN:VEVENT
DTSTART;TZID=Europe/Bratislava:20251017T130000
DTEND;TZID=Europe/Bratislava:20251017T170000
DTSTAMP:20260421T132634
CREATED:20251002T120619Z
LAST-MODIFIED:20251002T120619Z
UID:3014-1760706000-1760720400@golftatry.sk
SUMMARY:Sunny Friday with Lunch
DESCRIPTION:
URL:https://golftatry.sk/event/sunny-friday-with-lunch-3/
END:VEVENT
BEGIN:VEVENT
DTSTART;TZID=Europe/Bratislava:20251021T150000
DTEND;TZID=Europe/Bratislava:20251021T170000
DTSTAMP:20260421T132634
CREATED:20251002T120717Z
LAST-MODIFIED:20251002T120717Z
UID:3018-1761058800-1761066000@golftatry.sk
SUMMARY:Lunys golf cup na 9 jamiek - B/Braid
DESCRIPTION:
URL:https://golftatry.sk/event/lunys-golf-cup-na-9-jamiek-b-braid/
END:VEVENT
BEGIN:VEVENT
DTSTART;TZID=Europe/Bratislava:20251024T130000
DTEND;TZID=Europe/Bratislava:20251024T170000
DTSTAMP:20260421T132634
CREATED:20251002T120807Z
LAST-MODIFIED:20251002T120807Z
UID:3022-1761310800-1761325200@golftatry.sk
SUMMARY:Sunny Friday with Lunch
DESCRIPTION:
URL:https://golftatry.sk/event/sunny-friday-with-lunch-4/
END:VEVENT
BEGIN:VEVENT
DTSTART;TZID=Europe/Bratislava:20251028T150000
DTEND;TZID=Europe/Bratislava:20251028T170000
DTSTAMP:20260421T132634
CREATED:20251002T120903Z
LAST-MODIFIED:20251002T120903Z
UID:3026-1761663600-1761670800@golftatry.sk
SUMMARY:Lunys golf cup na 9 jamiek - C/Vardon
DESCRIPTION:
URL:https://golftatry.sk/event/lunys-golf-cup-na-9-jamiek-c-vardon-2/
END:VEVENT
BEGIN:VEVENT
DTSTART;TZID=Europe/Bratislava:20251031T130000
DTEND;TZID=Europe/Bratislava:20251031T170000
DTSTAMP:20260421T132634
CREATED:20251002T120950Z
LAST-MODIFIED:20251002T120950Z
UID:3030-1761915600-1761930000@golftatry.sk
SUMMARY:Sunny Friday with Lunch
DESCRIPTION:
URL:https://golftatry.sk/event/sunny-friday-with-lunch-5/
END:VEVENT
END:VCALENDAR